BEGIN:VCALENDAR
VERSION:2.0
PRODID:-//Classic Motor Racing Club - ECPv4.9.13//NONSGML v1.0//EN
CALSCALE:GREGORIAN
METHOD:PUBLISH
X-WR-CALNAME:Classic Motor Racing Club
X-ORIGINAL-URL:https://classicmotorracingclub.nz
X-WR-CALDESC:Events for Classic Motor Racing Club
BEGIN:VTIMEZONE
TZID:Pacific/Auckland
BEGIN:STANDARD
TZOFFSETFROM:+1300
TZOFFSETTO:+1200
TZNAME:NZST
DTSTART:20200404T140000
END:STANDARD
BEGIN:DAYLIGHT
TZOFFSETFROM:+1200
TZOFFSETTO:+1300
TZNAME:NZDT
DTSTART:20200926T140000
END:DAYLIGHT
END:VTIMEZONE
BEGIN:VEVENT
DTSTART;VALUE=DATE:20200131
DTEND;VALUE=DATE:20200203
DTSTAMP:20191219T220643
CREATED:20191202T024749Z
LAST-MODIFIED:20191202T024749Z
UID:711-1580428800-1580687999@classicmotorracingclub.nz
SUMMARY:Skope Classic
DESCRIPTION:By invitation by CCC \n
URL:https://classicmotorracingclub.nz/event/skope-classic/
LOCATION:Mike Pero Motorsport Park\, 107 Hasketts Rd\, Templeton\, Christchurch\, Canterbury\, 8042\, New Zealand
CATEGORIES:CMRC
ATTACH;FMTTYPE=image/jpeg:https://classicmotorracingclub.nz/wp-content/uploads/2019/10/Cookie.jpg
END:VEVENT
BEGIN:VEVENT
DTSTART;TZID=Pacific/Auckland:20200207T080000
DTEND;TZID=Pacific/Auckland:20200209T170000
DTSTAMP:20191219T220643
CREATED:20191110T204819Z
LAST-MODIFIED:20191205T020604Z
UID:516-1581062400-1581267600@classicmotorracingclub.nz
SUMMARY:SOUTH CANTERBURY HYDRAULICS SOUTHERN CLASSIC
DESCRIPTION:\n\n\nThis Classic and Historic Motor Race Meeting is an annual invitation event for people who are currently involved in Historic and Classic car racing. The meeting is solely organised by The Classic Motor Racing Club of New Zealand Race Committee and is run on the day(s) by the South Canterbury Car Club team. \nWe invite competitors to apply to enter the above event – Supplementary Regulations for other events in the series will be available from their respective organisers. \nThe South Canterbury Hydraulics Southern Classic is part of the Southern Festival and it is organised by members of the three major racing clubs in the South Island – The Canterbury Car Club\, The Classic Motor Racing Club of New Zealand and the Southland Sports Car Club Inc. Each Club arranges its own program of events and hospitality for competitors. These events are promoted by the organisers to encourage spectator attendance. \nThe aim of the series is for all participants to have entertaining racing where the focus is on competing rather than winning trophies. Because the fields are larger\, recent grid race experience is essential. Because of the number of events in the series\, a high level of vehicle preparation is required. \n\n\n\n\nFeatured classes will be:-  \n\n50th Anniversary of OSCA\,\n60 years of MINI\,\nClassic Saloon cars \,\nContinental Rennsport \,\nSports & Gts\,\nHistoric Muscle and Racing Saloons.\nFormula Libre & Historic FF\,\nVCC & Historic’s\,\nMobil1 Mainland Muscle Cars\n\nMore information: \n\nSupplementary Regulations\nDownload Entry Form\nEnter Online\n\n \n\n\n\n\n  \n\n\n
URL:https://classicmotorracingclub.nz/event/south-canterbury-hydraulics-southern-classic/
LOCATION:Timaru International Motor Raceway\, 418 Falvey Rd\, Washdyke\, Timaru\, 7974\, New Zealand
CATEGORIES:CMRC
ATTACH;FMTTYPE=image/jpeg:https://classicmotorracingclub.nz/wp-content/uploads/2019/11/SCH-2020-logo-blue.jpg
ORGANIZER;CN="CMRC":MAILTO:bddixon48@gmail.com
END:VEVENT
BEGIN:VEVENT
DTSTART;TZID=Pacific/Auckland:20200215T080000
DTEND;TZID=Pacific/Auckland:20200216T170000
DTSTAMP:20191219T220643
CREATED:20191014T011445Z
LAST-MODIFIED:20191202T025146Z
UID:66-1581753600-1581872400@classicmotorracingclub.nz
SUMMARY:George Begg Classic
DESCRIPTION:By application to SSCC \n
URL:https://classicmotorracingclub.nz/event/southern-classic-2020/
LOCATION:Teretonga Park\, 86 Sandy Point Road\, Otatara\, Southland\, New Zealand
CATEGORIES:CMRC
END:VEVENT
BEGIN:VEVENT
DTSTART;VALUE=DATE:20200404
DTEND;VALUE=DATE:20200406
DTSTAMP:20191219T220643
CREATED:20191202T025605Z
LAST-MODIFIED:20191202T025605Z
UID:719-1585958400-1586131199@classicmotorracingclub.nz
SUMMARY:Festival of Speed
DESCRIPTION:By application to Highlands \n
URL:https://classicmotorracingclub.nz/event/festival-of-speed/
LOCATION:Highlands Motorsport Park\, Corner SH6 & Sandflat Road\, Cromwell\, Otago\, New Zealand
CATEGORIES:CMRC
END:VEVENT
BEGIN:VEVENT
DTSTART;TZID=Pacific/Auckland:20200505T080000
DTEND;TZID=Pacific/Auckland:20200505T083000
DTSTAMP:20191219T220643
CREATED:20191202T025741Z
LAST-MODIFIED:20191202T025741Z
UID:721-1588665600-1588667400@classicmotorracingclub.nz
SUMMARY:Club Race Day
DESCRIPTION:All CMRC members and guests \n
URL:https://classicmotorracingclub.nz/event/club-race-day/
LOCATION:Timaru International Motor Raceway\, 418 Falvey Rd\, Washdyke\, Timaru\, 7974\, New Zealand
CATEGORIES:CMRC
END:VEVENT
END:VCALENDAR