BEGIN:VCALENDAR
VERSION:2.0
PRODID:-//Classic Motor Racing Club - ECPv6.15.20//NONSGML v1.0//EN
CALSCALE:GREGORIAN
METHOD:PUBLISH
X-ORIGINAL-URL:https://classicmotorracingclub.nz
X-WR-CALDESC:Events for Classic Motor Racing Club
REFRESH-INTERVAL;VALUE=DURATION:PT1H
X-Robots-Tag:noindex
X-PUBLISHED-TTL:PT1H
BEGIN:VTIMEZONE
TZID:Pacific/Auckland
BEGIN:STANDARD
TZOFFSETFROM:+1300
TZOFFSETTO:+1200
TZNAME:NZST
DTSTART:20210403T140000
END:STANDARD
BEGIN:DAYLIGHT
TZOFFSETFROM:+1200
TZOFFSETTO:+1300
TZNAME:NZDT
DTSTART:20210925T140000
END:DAYLIGHT
BEGIN:STANDARD
TZOFFSETFROM:+1300
TZOFFSETTO:+1200
TZNAME:NZST
DTSTART:20220402T140000
END:STANDARD
BEGIN:DAYLIGHT
TZOFFSETFROM:+1200
TZOFFSETTO:+1300
TZNAME:NZDT
DTSTART:20220924T140000
END:DAYLIGHT
BEGIN:STANDARD
TZOFFSETFROM:+1300
TZOFFSETTO:+1200
TZNAME:NZST
DTSTART:20230401T140000
END:STANDARD
BEGIN:DAYLIGHT
TZOFFSETFROM:+1200
TZOFFSETTO:+1300
TZNAME:NZDT
DTSTART:20230923T140000
END:DAYLIGHT
BEGIN:STANDARD
TZOFFSETFROM:+1300
TZOFFSETTO:+1200
TZNAME:NZST
DTSTART:20240406T140000
END:STANDARD
BEGIN:DAYLIGHT
TZOFFSETFROM:+1200
TZOFFSETTO:+1300
TZNAME:NZDT
DTSTART:20240928T140000
END:DAYLIGHT
BEGIN:STANDARD
TZOFFSETFROM:+1300
TZOFFSETTO:+1200
TZNAME:NZST
DTSTART:20250405T140000
END:STANDARD
BEGIN:DAYLIGHT
TZOFFSETFROM:+1200
TZOFFSETTO:+1300
TZNAME:NZDT
DTSTART:20250927T140000
END:DAYLIGHT
BEGIN:STANDARD
TZOFFSETFROM:+1300
TZOFFSETTO:+1200
TZNAME:NZST
DTSTART:20260404T140000
END:STANDARD
BEGIN:DAYLIGHT
TZOFFSETFROM:+1200
TZOFFSETTO:+1300
TZNAME:NZDT
DTSTART:20260926T140000
END:DAYLIGHT
BEGIN:STANDARD
TZOFFSETFROM:+1300
TZOFFSETTO:+1200
TZNAME:NZST
DTSTART:20270403T140000
END:STANDARD
BEGIN:DAYLIGHT
TZOFFSETFROM:+1200
TZOFFSETTO:+1300
TZNAME:NZDT
DTSTART:20270925T140000
END:DAYLIGHT
END:VTIMEZONE
BEGIN:VEVENT
DTSTART;TZID=Pacific/Auckland:20220211T080000
DTEND;TZID=Pacific/Auckland:20220213T170000
DTSTAMP:20260424T045513
CREATED:20211208T232312Z
LAST-MODIFIED:20220204T024640Z
UID:4831-1644566400-1644771600@classicmotorracingclub.nz
SUMMARY:South Canterbury Hydraulics Southern Festival Meeting 2022
DESCRIPTION:This Classic and Historic Motor Race Meeting is an annual invitation event for people who are currently involved in Historic and Classic car racing. The meeting is solely organised by The Classic Motor Racing Club of New Zealand Race Committee and is run on the day(s) by the South Canterbury Car Club team. \nDue to Covid restrictions there are no spectators allowed this year\, but there may be opportunities for CMRC Members to help out at the track- contact Paul Coghill (see contacts) for details.   \nThe South Canterbury Hydraulics Southern Classic is part of the Southern Festival and it is organised by members of the three major racing clubs in the South Island – The Canterbury Car Club\, The Classic Motor Racing Club of New Zealand and the Southland Sports Car Club Inc. Each Club arranges its own program of events and hospitality for competitors. These events are promoted by the organisers to encourage spectator attendance. \nThe aim of the series is for all participants to have entertaining racing where the focus is on competing rather than winning trophies. Because the fields are larger\, recent grid race experience is essential. Because of the number of events in the series\, a high level of vehicle preparation is required. \nEntry Fee is $325 for CMRC members and $350 for non-members.  (Annual CMRC membership is $50- the membership form is under Contacts above).  \nMore information: \n\nSupplementary regulations\nEntry conditions\nApplication to run slick tyres\n\n\n\n\nClick for the entry form…
URL:https://classicmotorracingclub.nz/event/south-canterbury-hydraulics-southern-festival-meeting/
LOCATION:Levels Raceway\, 418 Falvey Rd\, Washdyke\, Timaru\, 7974\, New Zealand
CATEGORIES:CMRC
ATTACH;FMTTYPE=image/jpeg:https://classicmotorracingclub.nz/wp-content/uploads/2020/03/LB0E3261_SMcLachlan.jpg
ORGANIZER;CN="CMRC":MAILTO:info@classicmotoringracingclub.nz
END:VEVENT
BEGIN:VEVENT
DTSTART;TZID=Pacific/Auckland:20220218T080000
DTEND;TZID=Pacific/Auckland:20220220T170000
DTSTAMP:20260424T045513
CREATED:20211215T042909Z
LAST-MODIFIED:20211215T042911Z
UID:4890-1645171200-1645376400@classicmotorracingclub.nz
SUMMARY:Mobil 1 Classic Speedfest
DESCRIPTION:The third meeting of the Southern Festival series.  Teretonga Park\, entry details from Southland Sports Car Club.
URL:https://classicmotorracingclub.nz/event/mobil-1-classic-speedfest/
LOCATION:Teretonga Park\, 86 Sandy Point Road\, Otatara\, Southland\, New Zealand
CATEGORIES:CMRC
END:VEVENT
BEGIN:VEVENT
DTSTART;TZID=Pacific/Auckland:20220514T000000
DTEND;TZID=Pacific/Auckland:20220514T235959
DTSTAMP:20260424T045513
CREATED:20211215T043713Z
LAST-MODIFIED:20220425T223809Z
UID:4893-1652486400-1652572799@classicmotorracingclub.nz
SUMMARY:Autumn Fling at Levels
DESCRIPTION:Join us racing at the last CMRC meeting of the season.  Due to Covid restrictions there are no spectators allowed\, but there may be opportunities for CMRC Members to help out at the track- contact Paul Coghill (see contacts) for details.  For the racers this is one last opportunity to enjoy a relaxed day at the races before putting you car to bed for the winter. \nTo enter cut and paste the following link into your browser: https://www.cognitoforms.com/ClassicMotorRacingClub/AutumnFling2022EntryForm?fbclid=IwAR3KFHKGWB3C4MoS6snFtLC9akf4XyPEXxFiEgGwH_bSyGg7CGnN-pg2ZGY \n 
URL:https://classicmotorracingclub.nz/event/autumn-fling-at-levels-2/
LOCATION:Levels Raceway\, 418 Falvey Rd\, Washdyke\, Timaru\, 7974\, New Zealand
CATEGORIES:CMRC
ATTACH;FMTTYPE=image/jpeg:https://classicmotorracingclub.nz/wp-content/uploads/2020/03/LB0E0397_RHurst.jpg
ORGANIZER;CN="CMRC":MAILTO:info@classicmotoringracingclub.nz
END:VEVENT
BEGIN:VEVENT
DTSTART;TZID=Pacific/Auckland:20221028T000000
DTEND;TZID=Pacific/Auckland:20221030T235959
DTSTAMP:20260424T045513
CREATED:20220925T014319Z
LAST-MODIFIED:20220925T014322Z
UID:50819-1666915200-1667174399@classicmotorracingclub.nz
SUMMARY:Wigram Revival 2022
DESCRIPTION: Mainland Muscle Cars  \nSouth Island Formula 1600  \nHistoric & Classic Saloons Pre 78  \nHistoric Formula Ford  \nPre 65 / Mini 7  \nOSCA  \nClassic Saloons Allcomers Pre 2001  \nVintage Car Club (running under their own permit) 
URL:https://classicmotorracingclub.nz/event/wigram-revival-2022/
LOCATION:Mike Pero Motorsport Park\, 107 Hasketts Rd\, Templeton\, Christchurch\, Canterbury\, 8042\, New Zealand
CATEGORIES:CMRC
ATTACH;FMTTYPE=image/jpeg:https://classicmotorracingclub.nz/wp-content/uploads/2019/10/Cookie.jpg
END:VEVENT
BEGIN:VEVENT
DTSTART;VALUE=DATE:20230210
DTEND;VALUE=DATE:20230213
DTSTAMP:20260424T045513
CREATED:20220615T032354Z
LAST-MODIFIED:20230116T070851Z
UID:50611-1675987200-1676246399@classicmotorracingclub.nz
SUMMARY:South Canterbury Hydraulics Southern Classic Meeting 2023
DESCRIPTION:This Classic and Historic Motor Race Meeting is an annual invitation event for people who are currently involved in Historic and Classic car racing. The meeting is solely organised by The Classic Motor Racing Club of New Zealand Race Committee and is run on the day by the South Canterbury Car Club team. \nThe South Canterbury Hydraulics Southern Classic is part of the Southern Festival organised by the three major racing clubs in the South Island – The Canterbury Car Club\, The Classic Motor Racing Club of New Zealand and the Southland Sports Car Club. Each Club arranges its own program of events and hospitality for competitors. These events usually attract a significant number of spectators. \nThe aim of the series is for all participants to have entertaining racing where the focus is on competing rather than winning trophies. Because the fields are larger\, recent grid race experience is essential. Because of the number of events in the series\, a high level of vehicle preparation is required. \nEntry Fee is to be advised but will be discounted for CMRC members. Annual CMRC membership is $50- the membership form is under Contacts above.  \n\n\nClick to enter\n\n\n\n\n\n\n\n \nClick for: \n\nSupplementary Regs\nApplication to Run Slick Tyres
URL:https://classicmotorracingclub.nz/event/south-canterbury-hydraulics-southern-festival-meeting-2023/
LOCATION:Levels Raceway\, 418 Falvey Rd\, Washdyke\, Timaru\, 7974\, New Zealand
CATEGORIES:CMRC
ATTACH;FMTTYPE=image/jpeg:https://classicmotorracingclub.nz/wp-content/uploads/2020/03/LB0E3261_SMcLachlan.jpg
ORGANIZER;CN="CMRC":MAILTO:info@classicmotoringracingclub.nz
END:VEVENT
BEGIN:VEVENT
DTSTART;VALUE=DATE:20230513
DTEND;VALUE=DATE:20230514
DTSTAMP:20260424T045513
CREATED:20220615T033936Z
LAST-MODIFIED:20230417T000209Z
UID:50617-1683936000-1684022399@classicmotorracingclub.nz
SUMMARY:2023 Autumn Fling at Levels
DESCRIPTION:Join us racing at the last CMRC meeting of the season and enjoy one last opportunity for a relaxed day at the races before putting your car to bed for the winter. \nInvited classes include Classic Saloons\, Large and Small\, Pre-78 Classic Saloons\, Sports & GT’s\, Formula Libre\, and Vintage and Historics (VCC) \nFor more information contact the CMRC Race Secretary: –  \nZara Coghill at race@classicmotorracingclub.nz 
URL:https://classicmotorracingclub.nz/event/2023-autumn-fling-at-levels/
LOCATION:Levels Raceway\, 418 Falvey Rd\, Washdyke\, Timaru\, 7974\, New Zealand
CATEGORIES:CMRC
ATTACH;FMTTYPE=image/jpeg:https://classicmotorracingclub.nz/wp-content/uploads/2020/03/LB0E0397_RHurst.jpg
ORGANIZER;CN="CMRC":MAILTO:info@classicmotoringracingclub.nz
END:VEVENT
BEGIN:VEVENT
DTSTART;VALUE=DATE:20230902
DTEND;VALUE=DATE:20230903
DTSTAMP:20260424T045513
CREATED:20230417T210352Z
LAST-MODIFIED:20230718T015228Z
UID:51147-1693612800-1693699199@classicmotorracingclub.nz
SUMMARY:Brooklands Meeting and AGM 2023
DESCRIPTION:It is once again time to dust off the overalls\, finish the maintenance that you have been working on\, and ready yourself for the first CMRC Club Day of the new season.  Prepare for a great day competing at the BROOKLANDS CHALLENGE MEETING\, 2nd September 2023 at Levels Raceway\, Timaru.  Invited classes will include pre-78 Classic Saloons\, Allcomer Classic Saloons (Large & Small)\, Sports & GT’s\, Formula Libre\, Vintage & Historic (VCC) and the mighty CAMs bikers.  Testing will be available on Friday afternoon\, 1st September from 1:30 to 4:30 and is made complimentary by the CMRC.  A complimentary BBQ will be available starting at 5.30 pm outside the Club rooms for those CMRC members attending the AGM.  The CMRC AGM will be held in the South Canterbury Club rooms\, Friday 1st Sept. at 7.00 pm.  If you were unable to attend last year please note the change of venue from earlier years. Your attendance at the AGM would be appreciated so you can voice your comments on the organising of the Club\, and we are working towards having an updated version of the Club Rules for comment and/or approval. Now is the time to put forward any suggestions that we can implement to improve the performance of the Club.  Entries will be out end of July.  \nSupplementary Regs 2023 Brooklands Supplementary Regs Part 1 & 2 \nFor more information contact the CMRC Race Secretary Zara Coghill: Zara’s email address is:    race@classicmotorracingclub.nz
URL:https://classicmotorracingclub.nz/event/brooklands-meeting-and-agm-2023/
LOCATION:Levels Raceway\, 418 Falvey Rd\, Washdyke\, Timaru\, 7974\, New Zealand
CATEGORIES:CMRC
ATTACH;FMTTYPE=image/jpeg:https://classicmotorracingclub.nz/wp-content/uploads/2021/06/20210214_212131-scaled.jpg
ORGANIZER;CN="CMRC":MAILTO:info@classicmotoringracingclub.nz
END:VEVENT
BEGIN:VEVENT
DTSTART;VALUE=DATE:20240209
DTEND;VALUE=DATE:20240212
DTSTAMP:20260424T045513
CREATED:20231027T040007Z
LAST-MODIFIED:20240212T043656Z
UID:51230-1707436800-1707695999@classicmotorracingclub.nz
SUMMARY:Southern Classic Meeting 2024
DESCRIPTION:The Southern Classic meeting will once again be organised and presented by the CMRC at Timaru’s Levels Raceway\, from the 9th to the 11th February 2024. This classic and historic motor race meeting is an annual invitation event for people who enjoy classic racing or simply watching classic cars in action. \nThe 2024 meeting will be the 19th Southern Classic hosted at Levels by CMRC and once again we are looking forward to some very exciting cars and racing over the three days. \nThis year features national and international Formula Juniors\, Formula Libre racing cars\, Vintage & Historics (VCC) together with Pre-78 Classic Saloons\, Historic & Vintage Racing Association (HVRA)\, South Island 2K Cup\, Small Saloons\, and Large Saloons. \nThe South Canterbury Car Club is handling the day-to-day running of the event and the beautifully presented grounds make Levels a relaxing place to enjoy the meeting. \nThe Southern Classic is weekend two of the three-event series\, following the Skope Classic at Ruapuna\, Christchurch. The third event takes place at the Teretonga circuit in Invercargill. \nThe Southern Festival aims to promote competitive and entertaining racing rather than winning at all costs. The trophies are presented to competitors who have best exemplified the spirit and philosophy of classic racing. \nFor more information contact Paul Coghill on 0274 330 318\, or info@classicmotorracingclub.nz \n  \nThe organizing Committee of the Classic Motor Racing Club wish to thank the following Sponsors and Advertisers. \nKelford Engineering Services Christchurch \nPaul Smith Earthmoving Timaru \nVCC Banks Peninsula Branch Canterbury \nA.F. Southgate & Sons Timaru \nLeitch Motorsport \nMillion Dollar Cruise \nBlueprint Christchurch \nFootes Ltd Chartered Accountants\, Timaru \nIndustrial Controls South Canterbury\, Timaru \nAuto Restorations Christchurch \nSpringbank Farm \nA big thank you to all volunteers and workers from the South Canterbury Car Club who have been involved in the Southern Classic 2024 classic race meeting. \nWe would like to thank the people who have travelled from near and far to work in the background to help things run smoothly. \nWithout all of you we would not have been able to run this race meeting. Thank you all.
URL:https://classicmotorracingclub.nz/event/southern-classic-meeting-2024/
LOCATION:Levels Raceway\, 418 Falvey Rd\, Washdyke\, Timaru\, 7974\, New Zealand
CATEGORIES:CMRC
ATTACH;FMTTYPE=image/jpeg:https://classicmotorracingclub.nz/wp-content/uploads/2021/06/20210212_214529-scaled.jpg
ORGANIZER;CN="CMRC":MAILTO:info@classicmotoringracingclub.nz
END:VEVENT
BEGIN:VEVENT
DTSTART;VALUE=DATE:20240615
DTEND;VALUE=DATE:20240616
DTSTAMP:20260424T045513
CREATED:20240213T083915Z
LAST-MODIFIED:20240607T041250Z
UID:51263-1718409600-1718495999@classicmotorracingclub.nz
SUMMARY:2024 Autumn Fling at Levels (cancelled)
DESCRIPTION:Sorry to have to report that while some classes had strong entries for the Autumn Fling\, others were put off by Autumn having to be delayed until Mid-Winter this year together with a dire weather forecast for the weekend.  That meant we had too few entrants in some classes to run a full race meeting and we have reluctantly decided it must be cancelled.  On the plus side\, that gives you another few weeks to make sure the car is ready for the Brooklands meeting at the end of August where strong fields have been promised. \nThose who have entered should email Paul.Coghill@gmail.com and advise him of your bank details and the amount you paid to enter in order to obtain a full refund.  See you at Brooklands.
URL:https://classicmotorracingclub.nz/event/2024-autumn-fling-at-levels/
LOCATION:Levels Raceway\, 418 Falvey Rd\, Washdyke\, Timaru\, 7974\, New Zealand
CATEGORIES:CMRC
ATTACH;FMTTYPE=image/jpeg:https://classicmotorracingclub.nz/wp-content/uploads/2020/03/LB0E0397_RHurst.jpg
ORGANIZER;CN="CMRC":MAILTO:info@classicmotoringracingclub.nz
END:VEVENT
BEGIN:VEVENT
DTSTART;VALUE=DATE:20240831
DTEND;VALUE=DATE:20240901
DTSTAMP:20260424T045513
CREATED:20240213T084244Z
LAST-MODIFIED:20240227T054929Z
UID:51266-1725062400-1725148799@classicmotorracingclub.nz
SUMMARY:Brooklands Meeting and AGM 2024
DESCRIPTION:It is once again time to dust off the overalls\, finish the maintenance that you have been working on\, and ready yourself for the first CMRC Club Day of the new season. Prepare for a great day competing at the BROOKLANDS CHALLENGE MEETING\, 31 August 2024 at Levels Raceway\, Timaru. Invited classes will include Classic Saloons Large and Small\, Pre-78 Classic Saloons\, Sports & GT’s\, Formula Libre\, Vintage & Historic (VCC) and the mighty CAMs bikers.  Testing will be available on Friday afternoon\, 30 August from 1:30 to 4:30 and is made complimentary by the CMRC.  A complimentary BBQ will be available starting at 6.00 pm outside the Club rooms for those CMRC members attending the AGM. The CMRC AGM will be held in the South Canterbury Club rooms\, Friday 30 August. at 7.00 pm.  Your attendance at the AGM would be appreciated so you can voice your comments on the organising of the Club\, and we are working towards having an updated version of the Club Rules for comment and/or approval. Now is the time to put forward any suggestions that we can implement to improve the performance of the Club.  Entries will be out end of July. Supplementary Regs: TBC For more information contact the CMRC Race Secretary Zara Coghill: Zara’s email address is:    race@classicmotorracingclub.nz
URL:https://classicmotorracingclub.nz/event/brooklands-meeting-and-agm-2024/
LOCATION:Levels Raceway\, 418 Falvey Rd\, Washdyke\, Timaru\, 7974\, New Zealand
CATEGORIES:CMRC
ATTACH;FMTTYPE=image/jpeg:https://classicmotorracingclub.nz/wp-content/uploads/2021/06/20210214_212131-scaled.jpg
ORGANIZER;CN="CMRC":MAILTO:info@classicmotoringracingclub.nz
END:VEVENT
BEGIN:VEVENT
DTSTART;TZID=Pacific/Auckland:20250207T080000
DTEND;TZID=Pacific/Auckland:20250209T170000
DTSTAMP:20260424T045513
CREATED:20240902T054814Z
LAST-MODIFIED:20240902T210532Z
UID:51437-1738915200-1739120400@classicmotorracingclub.nz
SUMMARY:Southern Classic
DESCRIPTION:Get ready for one of the finest Classic Motor Racing Events of the 2025 Calendar. \nWe will be announcing shortly a wide range of classes\, and cars which you will not want to miss. \nLevels Raceway will come alive with the sound of Classic Tin Tops\, Single Seaters\, and Vintage Racecars \nfrom many era’s. Keep watching our wesbite for event updates and news.
URL:https://classicmotorracingclub.nz/event/southern-classic/
LOCATION:Levels Raceway\, 418 Falvey Rd\, Washdyke\, Timaru\, 7974\, New Zealand
CATEGORIES:CMRC
ATTACH;FMTTYPE=image/jpeg:https://classicmotorracingclub.nz/wp-content/uploads/2024/07/EPL-CMRC-110224-1290.jpg
END:VEVENT
BEGIN:VEVENT
DTSTART;TZID=Pacific/Auckland:20250524T080000
DTEND;TZID=Pacific/Auckland:20250524T170000
DTSTAMP:20260424T045513
CREATED:20250310T080402Z
LAST-MODIFIED:20250311T072637Z
UID:51991-1748073600-1748106000@classicmotorracingclub.nz
SUMMARY:Autumn Fling Members Meeting
DESCRIPTION:The CMRC welcomes all CMRC members to join  us for a great days racing as we wave goodbye to Summer and have one \nlast hurrah until the depths of winter are with us. \n  \nGreat single day event of relaxed racing. \n4 Classes of Classic Race Cars \nPre78 Classic Saloons \nCMRC Allcomers \nFormula Libre \nVCC and Historic \n  \n8am – 5.00pm \nFree Entry to the Public \n  \nIf you would like to join CMRC contact us so we can show you how.
URL:https://classicmotorracingclub.nz/event/autumn-fling-members-meeting/
LOCATION:Levels Raceway\, 418 Falvey Rd\, Washdyke\, Timaru\, 7974\, New Zealand
CATEGORIES:CMRC
ATTACH;FMTTYPE=image/jpeg:https://classicmotorracingclub.nz/wp-content/uploads/2025/03/Autumn-Fling-2025-FB-Banner-scaled.jpg
ORGANIZER;CN="CMRC":MAILTO:info@classicmotoringracingclub.nz
END:VEVENT
BEGIN:VEVENT
DTSTART;TZID=Pacific/Auckland:20250912T183000
DTEND;TZID=Pacific/Auckland:20250912T200000
DTSTAMP:20260424T045513
CREATED:20250310T082253Z
LAST-MODIFIED:20250312T070357Z
UID:52002-1757701800-1757707200@classicmotorracingclub.nz
SUMMARY:CMRC AGM 2025
DESCRIPTION:Join the CMRC Committee at our AGM. \nHeld in the clubrooms at Levels Raceway on Friday September 12th 6.30PM \nAll members welcome\, and if you aren’t a member come along and meet up with other \nmembers and we can sign you up to the club ! \n 
URL:https://classicmotorracingclub.nz/event/cmrc-agm-2025/
LOCATION:Levels Raceway\, 418 Falvey Rd\, Washdyke\, Timaru\, 7974\, New Zealand
CATEGORIES:CMRC
ORGANIZER;CN="CMRC":MAILTO:info@classicmotoringracingclub.nz
END:VEVENT
BEGIN:VEVENT
DTSTART;TZID=Pacific/Auckland:20250913T080000
DTEND;TZID=Pacific/Auckland:20250913T170000
DTSTAMP:20260424T045513
CREATED:20250310T081820Z
LAST-MODIFIED:20250311T072928Z
UID:51999-1757750400-1757782800@classicmotorracingclub.nz
SUMMARY:Brookland Members Meeting 2025
DESCRIPTION:The CMRC welcome all members to Levels Raceway for our Brooklands Members Meeting. \nWelcome in the Spring with a full days relaxed racing with the following classes in attendance. \nPRE 78 Classic Saloons \nCMRC Allcomers \nFormula Libre \nVintage and Historics \nCAM Motorcycles \nAction for young and old with a mixture of high performance action on both 2 wheels and 4. \n  \nFree Public admission \n 
URL:https://classicmotorracingclub.nz/event/cmrc-brookland-members-meeting-2025/
LOCATION:Levels Raceway\, 418 Falvey Rd\, Washdyke\, Timaru\, 7974\, New Zealand
CATEGORIES:CMRC
ATTACH;FMTTYPE=image/jpeg:https://classicmotorracingclub.nz/wp-content/uploads/2025/03/Brooklands-2025-Draft-2-scaled.jpg
ORGANIZER;CN="CMRC":MAILTO:info@classicmotoringracingclub.nz
END:VEVENT
BEGIN:VEVENT
DTSTART;TZID=Pacific/Auckland:20260509T070000
DTEND;TZID=Pacific/Auckland:20260509T170000
DTSTAMP:20260424T045513
CREATED:20260304T035017Z
LAST-MODIFIED:20260315T204346Z
UID:53679-1778310000-1778346000@classicmotorracingclub.nz
SUMMARY:Autumn Fling Members Meeting 2026
DESCRIPTION:May 9th and the peaceful surroundings of Levels Raceway in Timaru will be awoken to the sound of classic cars.  \nThe Classic Motor Racing Club will again host their now famous Autumn Fling Members meeting with all our clubs classes in full swing.  \nFormula Libre  \nPRE78 Classic Saloons  \nCMRC Classic Allcomers  \nVCC and Historic (PRE66)  \nCMRC Regularity Trial  \n  \nFree spectator entry  \nCompetitors entry fee $220.00                           (remember you must be a current financial member of the CMRC to enter this meeting)  \n  \n  \nAutumn Fling 2026 Poster A3
URL:https://classicmotorracingclub.nz/event/autumn-fling-members-meeting-2026/
LOCATION:Levels Raceway\, 418 Falvey Rd\, Washdyke\, Timaru\, 7974\, New Zealand
CATEGORIES:CMRC
ATTACH;FMTTYPE=image/jpeg:https://classicmotorracingclub.nz/wp-content/uploads/2026/03/Autumn-Fling-2026-Poster-A3--scaled.jpg
ORGANIZER;CN="CMRC":MAILTO:info@classicmotoringracingclub.nz
END:VEVENT
BEGIN:VEVENT
DTSTART;TZID=Pacific/Auckland:20260912T070000
DTEND;TZID=Pacific/Auckland:20260912T170000
DTSTAMP:20260424T045513
CREATED:20260315T203015Z
LAST-MODIFIED:20260315T204214Z
UID:53688-1789196400-1789232400@classicmotorracingclub.nz
SUMMARY:Brooklands Members Meeting 2026
DESCRIPTION:September 12th 2026 will welcome the CMRC back to Levels Raceway for the Annual \nBrookland’s Members Meeting \nFeaturing – \nCAMS Motorcycles \nFormula Libre \nPRE78 Classic Saloons \nCMRC Allcomers \nVCC and Historic (PRE66) \nCMRC Regularity Trial. \n  \nFree spectator entry \n  \nBrooklad Poster 2026 v3
URL:https://classicmotorracingclub.nz/event/brooklands-members-meeting-2026/
CATEGORIES:CMRC
ATTACH;FMTTYPE=image/jpeg:https://classicmotorracingclub.nz/wp-content/uploads/2026/03/Brooklands-Poster-2026-V3-scaled.jpg
END:VEVENT
END:VCALENDAR